BEGIN:VCALENDAR
VERSION:2.0
PRODID:-//Goalzkids - ECPv6.15.20//NONSGML v1.0//EN
CALSCALE:GREGORIAN
METHOD:PUBLISH
X-WR-CALNAME:Goalzkids
X-ORIGINAL-URL:https://goalzkids.com
X-WR-CALDESC:Events for Goalzkids
REFRESH-INTERVAL;VALUE=DURATION:PT1H
X-Robots-Tag:noindex
X-PUBLISHED-TTL:PT1H
BEGIN:VTIMEZONE
TZID:UTC
BEGIN:STANDARD
TZOFFSETFROM:+0000
TZOFFSETTO:+0000
TZNAME:UTC
DTSTART:20250101T000000
END:STANDARD
END:VTIMEZONE
BEGIN:VEVENT
DTSTART;TZID=UTC:20260207T140000
DTEND;TZID=UTC:20260207T150000
DTSTAMP:20260420T050518
CREATED:20260201T191518Z
LAST-MODIFIED:20260201T191518Z
UID:282-1770472800-1770476400@goalzkids.com
SUMMARY:Raspberry Candle Event
DESCRIPTION:  \nDates: 7th February\nActivities: Candle making\nAges: 5–12 years \n 
URL:https://goalzkids.com/event/raspberry-candle-event/
END:VEVENT
END:VCALENDAR